BEGIN:VCALENDAR
VERSION:2.0
PRODID:-//Evangelistic Hall Llanelli - ECPv4.6.20.1//NONSGML v1.0//EN
CALSCALE:GREGORIAN
METHOD:PUBLISH
X-WR-CALNAME:Evangelistic Hall Llanelli
X-ORIGINAL-URL:https://evangelistichallllanelli.com
X-WR-CALDESC:Events for Evangelistic Hall Llanelli
BEGIN:VEVENT
DTSTART;TZID=Europe/London:20221211T100000
DTEND;TZID=Europe/London:20221211T113000
DTSTAMP:20260425T220121
CREATED:20221206T205919Z
LAST-MODIFIED:20221206T205923Z
UID:6438-1670752800-1670758200@evangelistichallllanelli.com
SUMMARY:The Lord's Supper\, 10am\, in the Hall and  online. ID 801 252 7036. PC 1234
DESCRIPTION:
URL:https://evangelistichallllanelli.com/event/the-lords-supper-10am-in-the-hall-and-online-id-801-252-7036-pc-1234-3/
LOCATION:Arthur Streeet\, Llanelli
END:VEVENT
BEGIN:VEVENT
DTSTART;TZID=Europe/London:20221211T120000
DTEND;TZID=Europe/London:20221211T123000
DTSTAMP:20260425T220121
CREATED:20221206T210208Z
LAST-MODIFIED:20221206T210212Z
UID:6440-1670760000-1670761800@evangelistichallllanelli.com
SUMMARY:Bible Class\, 12 noon\, in the Hall and online.
DESCRIPTION:
URL:https://evangelistichallllanelli.com/event/bible-class-12-noon-in-the-hall-and-online/
LOCATION:Arthur Streeet\, Llanelli
END:VEVENT
BEGIN:VEVENT
DTSTART;TZID=Europe/London:20221211T180000
DTEND;TZID=Europe/London:20221211T190000
DTSTAMP:20260425T220121
CREATED:20221206T210550Z
LAST-MODIFIED:20221206T210556Z
UID:6442-1670781600-1670785200@evangelistichallllanelli.com
SUMMARY:Gospel Service\, 6pm\, in the Hall and online. Speaker: Robert Davies (Llanelli).
DESCRIPTION:
URL:https://evangelistichallllanelli.com/event/gospel-service-6pm-in-the-hall-and-online-speaker-robert-davies-llanelli/
LOCATION:Arthur Streeet\, Llanelli
END:VEVENT
END:VCALENDAR